BEGIN:VCALENDAR
VERSION:2.0
PRODID:-//Stitch On - ECPv6.15.20//NONSGML v1.0//EN
CALSCALE:GREGORIAN
METHOD:PUBLISH
X-ORIGINAL-URL:https://stitchon.com
X-WR-CALDESC:Events for Stitch On
REFRESH-INTERVAL;VALUE=DURATION:PT1H
X-Robots-Tag:noindex
X-PUBLISHED-TTL:PT1H
BEGIN:VTIMEZONE
TZID:America/Chicago
BEGIN:DAYLIGHT
TZOFFSETFROM:-0600
TZOFFSETTO:-0500
TZNAME:CDT
DTSTART:20250309T080000
END:DAYLIGHT
BEGIN:STANDARD
TZOFFSETFROM:-0500
TZOFFSETTO:-0600
TZNAME:CST
DTSTART:20251102T070000
END:STANDARD
BEGIN:DAYLIGHT
TZOFFSETFROM:-0600
TZOFFSETTO:-0500
TZNAME:CDT
DTSTART:20260308T080000
END:DAYLIGHT
BEGIN:STANDARD
TZOFFSETFROM:-0500
TZOFFSETTO:-0600
TZNAME:CST
DTSTART:20261101T070000
END:STANDARD
BEGIN:DAYLIGHT
TZOFFSETFROM:-0600
TZOFFSETTO:-0500
TZNAME:CDT
DTSTART:20270314T080000
END:DAYLIGHT
BEGIN:STANDARD
TZOFFSETFROM:-0500
TZOFFSETTO:-0600
TZNAME:CST
DTSTART:20271107T070000
END:STANDARD
END:VTIMEZONE
BEGIN:VEVENT
DTSTART;TZID=America/Chicago:20260417T100000
DTEND;TZID=America/Chicago:20260417T160000
DTSTAMP:20260417T230955
CREATED:20260401T182009Z
LAST-MODIFIED:20260401T182009Z
UID:2359-1776420000-1776441600@stitchon.com
SUMMARY:Sew Kind of Wonderful
DESCRIPTION:Friday\, April 17 (10 am – 4 pm)\nCost per attendee: $30\nInstructor: Denise \nPlease contact the store at (785) 842-1101 with questions or to sign up. \nFor this class\, you can pick ANY Sew Kind of Wonderful pattern! Denise is a certified Sew Kind of Wonderful instructor and will walk you through the ins and outs of their patterns\, how to use their rulers\, and more! \nDon’t let yourself be intimidated by curves! Making curve pieces the Sew Kind of Wonderful way is fun and will become a breeze after a day with Denise!
URL:https://stitchon.com/event/sew-kind-of-wonderful-2/
LOCATION:Stitch On\, 899 E 1000th Road\, Lawrence\, KS\, 66047\, United States
ATTACH;FMTTYPE=image/jpeg:https://stitchon.com/wp-content/uploads/2026/01/sew-kind-of-wonderful-you-pick-class.jpg
END:VEVENT
END:VCALENDAR