BEGIN:VCALENDAR
VERSION:2.0
PRODID:-//Stitch On - ECPv6.15.20//NONSGML v1.0//EN
CALSCALE:GREGORIAN
METHOD:PUBLISH
X-ORIGINAL-URL:https://stitchon.com
X-WR-CALDESC:Events for Stitch On
REFRESH-INTERVAL;VALUE=DURATION:PT1H
X-Robots-Tag:noindex
X-PUBLISHED-TTL:PT1H
BEGIN:VTIMEZONE
TZID:America/Chicago
BEGIN:DAYLIGHT
TZOFFSETFROM:-0600
TZOFFSETTO:-0500
TZNAME:CDT
DTSTART:20250309T080000
END:DAYLIGHT
BEGIN:STANDARD
TZOFFSETFROM:-0500
TZOFFSETTO:-0600
TZNAME:CST
DTSTART:20251102T070000
END:STANDARD
BEGIN:DAYLIGHT
TZOFFSETFROM:-0600
TZOFFSETTO:-0500
TZNAME:CDT
DTSTART:20260308T080000
END:DAYLIGHT
BEGIN:STANDARD
TZOFFSETFROM:-0500
TZOFFSETTO:-0600
TZNAME:CST
DTSTART:20261101T070000
END:STANDARD
BEGIN:DAYLIGHT
TZOFFSETFROM:-0600
TZOFFSETTO:-0500
TZNAME:CDT
DTSTART:20270314T080000
END:DAYLIGHT
BEGIN:STANDARD
TZOFFSETFROM:-0500
TZOFFSETTO:-0600
TZNAME:CST
DTSTART:20271107T070000
END:STANDARD
END:VTIMEZONE
BEGIN:VEVENT
DTSTART;TZID=America/Chicago:20260303T100000
DTEND;TZID=America/Chicago:20260303T160000
DTSTAMP:20260419T114751
CREATED:20260120T184513Z
LAST-MODIFIED:20260120T184513Z
UID:2323-1772532000-1772553600@stitchon.com
SUMMARY:Hand Reverse Applique
DESCRIPTION:Tuesday\, March 3 (10 am – 4 pm)\nCost per attendee: $30\nInstructor: Sally \nPlease contact the store at (785) 842-1101 with questions or to sign up. \nGrab a sweatshirt or t-shirt and learn a new technique with us! During this class\, you will learn how to hand reverse applique on your garment. \nTake a peek at this Hello sweatshirt to get an idea of what you will make. \nUsing the hand reverse applique technique with big stitching\, you will have the option of using the word QUILTER or STITCHER. \nOnce you learn this technique\, the possibilities are endless what you can create! Use this method on a zipper bag\, tote\, etc. with any words or images you want! \nPhoto Credit: Tik Tok @flynn_and_mabel
URL:https://stitchon.com/event/hand-reverse-applique/
LOCATION:Stitch On\, 899 E 1000th Road\, Lawrence\, KS\, 66047\, United States
ATTACH;FMTTYPE=image/jpeg:https://stitchon.com/wp-content/uploads/2026/01/hand-reverse-applique.jpg
END:VEVENT
BEGIN:VEVENT
DTSTART;TZID=America/Chicago:20260306T100000
DTEND;TZID=America/Chicago:20260306T110000
DTSTAMP:20260419T114751
CREATED:20260120T184749Z
LAST-MODIFIED:20260120T184749Z
UID:2327-1772791200-1772794800@stitchon.com
SUMMARY:Twilling
DESCRIPTION:Friday\, March 6 (10 am – 11 am)\nCost per attendee: $12 and a $3 kit\nInstructor: Marilyn \nPlease contact the store at (785) 842-1101 with questions or to sign up. \nCome out for a fun hour and learn a new technique with Marilyn! \nYou won’t make a Stitch On sign\, but rather a fun shamrock. \nBecause there is a kit for this class\, you will need to bring almost nothing else! So\, it’s a fun opportunity to learn a new skill without the stress of a long supply list or homework ahead of class!
URL:https://stitchon.com/event/twilling/
LOCATION:Stitch On\, 899 E 1000th Road\, Lawrence\, KS\, 66047\, United States
ATTACH;FMTTYPE=image/jpeg:https://stitchon.com/wp-content/uploads/2026/01/twlling.jpg
END:VEVENT
BEGIN:VEVENT
DTSTART;TZID=America/Chicago:20260317T100000
DTEND;TZID=America/Chicago:20260317T160000
DTSTAMP:20260419T114751
CREATED:20260120T185657Z
LAST-MODIFIED:20260120T185657Z
UID:2329-1773741600-1773763200@stitchon.com
SUMMARY:Zipper 101 & Snack Pouch
DESCRIPTION:Tuesday\, March 17 (10 am – 4 pm)\nCost per attendee: $35\nInstructor: Sally \nPlease contact the store at (785) 842-1101 with questions or to sign up. \nCome tackle zippers with Sally! This is a great beginner zipper class. No zipper experience necessary. \nNot only will you learn tips and tricks on how to sew in a zipper\, but you will also walk away with a super cute snack pouch! Buy your favorite snack candy\, do your homework and empty the bag\, and then you’re all set to make a laminated zipper snack pouch in class! \nThese make great gifts!
URL:https://stitchon.com/event/zipper-101-snack-pouch/
LOCATION:KS
ATTACH;FMTTYPE=image/jpeg:https://stitchon.com/wp-content/uploads/2026/01/zipper-101-and-snack-pouch.jpg
END:VEVENT
END:VCALENDAR