BEGIN:VCALENDAR
VERSION:2.0
PRODID:-//Stitch On - ECPv6.15.20//NONSGML v1.0//EN
CALSCALE:GREGORIAN
METHOD:PUBLISH
X-ORIGINAL-URL:https://stitchon.com
X-WR-CALDESC:Events for Stitch On
REFRESH-INTERVAL;VALUE=DURATION:PT1H
X-Robots-Tag:noindex
X-PUBLISHED-TTL:PT1H
BEGIN:VTIMEZONE
TZID:America/Chicago
BEGIN:DAYLIGHT
TZOFFSETFROM:-0600
TZOFFSETTO:-0500
TZNAME:CDT
DTSTART:20250309T080000
END:DAYLIGHT
BEGIN:STANDARD
TZOFFSETFROM:-0500
TZOFFSETTO:-0600
TZNAME:CST
DTSTART:20251102T070000
END:STANDARD
BEGIN:DAYLIGHT
TZOFFSETFROM:-0600
TZOFFSETTO:-0500
TZNAME:CDT
DTSTART:20260308T080000
END:DAYLIGHT
BEGIN:STANDARD
TZOFFSETFROM:-0500
TZOFFSETTO:-0600
TZNAME:CST
DTSTART:20261101T070000
END:STANDARD
BEGIN:DAYLIGHT
TZOFFSETFROM:-0600
TZOFFSETTO:-0500
TZNAME:CDT
DTSTART:20270314T080000
END:DAYLIGHT
BEGIN:STANDARD
TZOFFSETFROM:-0500
TZOFFSETTO:-0600
TZNAME:CST
DTSTART:20271107T070000
END:STANDARD
END:VTIMEZONE
BEGIN:VEVENT
DTSTART;TZID=America/Chicago:20260130T100000
DTEND;TZID=America/Chicago:20260130T160000
DTSTAMP:20260419T152238
CREATED:20260120T183753Z
LAST-MODIFIED:20260120T184048Z
UID:2310-1769767200-1769788800@stitchon.com
SUMMARY:Scrappy Strip Foundation Paper Piecing
DESCRIPTION:Friday\, January 30 (10 am – 4 pm)\nCost per attendee: $30\nInstructor: Sally \nPlease contact the store at (785) 842-1101 with questions or to sign up. \nMake use of your scraps in the new year with our Scrappy Strip Foundation Paper Piecing (FPP) class! \nThis class is different than your traditional FPP as it uses scraps and one base paper. The blocks are perfect for scraps of all widths up to 2.5″ or can be constructed with consistent sized strips. \nDuring class\, Sally will show you how to determine a foundation base\, how to stitch strips\, and how to trim to a desired finish. \nThe project can be used for quilts\, table runners\, wall hangings\, pillows\, bags\, trivets\, etc. Truly limitless! \nJoin Sally and others for a productive day of scrap busting! This class is perfect for beginners or experienced stitchers!
URL:https://stitchon.com/event/scrappy-strip-foundation-paper-piecing/
LOCATION:Stitch On\, 899 E 1000th Road\, Lawrence\, KS\, 66047\, United States
ATTACH;FMTTYPE=image/jpeg:https://stitchon.com/wp-content/uploads/2026/01/scrappy-FPP.jpg
END:VEVENT
END:VCALENDAR