BEGIN:VCALENDAR
VERSION:2.0
PRODID:-//Stitch On - ECPv6.15.20//NONSGML v1.0//EN
CALSCALE:GREGORIAN
METHOD:PUBLISH
X-WR-CALNAME:Stitch On
X-ORIGINAL-URL:https://stitchon.com
X-WR-CALDESC:Events for Stitch On
REFRESH-INTERVAL;VALUE=DURATION:PT1H
X-Robots-Tag:noindex
X-PUBLISHED-TTL:PT1H
BEGIN:VTIMEZONE
TZID:America/Chicago
BEGIN:DAYLIGHT
TZOFFSETFROM:-0600
TZOFFSETTO:-0500
TZNAME:CDT
DTSTART:20240310T080000
END:DAYLIGHT
BEGIN:STANDARD
TZOFFSETFROM:-0500
TZOFFSETTO:-0600
TZNAME:CST
DTSTART:20241103T070000
END:STANDARD
BEGIN:DAYLIGHT
TZOFFSETFROM:-0600
TZOFFSETTO:-0500
TZNAME:CDT
DTSTART:20250309T080000
END:DAYLIGHT
BEGIN:STANDARD
TZOFFSETFROM:-0500
TZOFFSETTO:-0600
TZNAME:CST
DTSTART:20251102T070000
END:STANDARD
BEGIN:DAYLIGHT
TZOFFSETFROM:-0600
TZOFFSETTO:-0500
TZNAME:CDT
DTSTART:20260308T080000
END:DAYLIGHT
BEGIN:STANDARD
TZOFFSETFROM:-0500
TZOFFSETTO:-0600
TZNAME:CST
DTSTART:20261101T070000
END:STANDARD
END:VTIMEZONE
BEGIN:VEVENT
DTSTART;TZID=America/Chicago:20250228T100000
DTEND;TZID=America/Chicago:20250228T160000
DTSTAMP:20260420T114517
CREATED:20250210T182703Z
LAST-MODIFIED:20250211T153735Z
UID:1987-1740736800-1740758400@stitchon.com
SUMMARY:Zip It Up
DESCRIPTION:Friday\, February 28\n10:00 a.m. – 4:00 p.m.\nInstructor: Sammie \nThis is a perfect organizer whether you need a first aid kit\, project bag\, notion organizer\, accessory bag\, etc. The Zip it Up organizer opens flat allowing for easy access and visibility. Pattern offers two size options. \n\nSmall: 8.5″ H x 10″ W x 1″ D (10″ x 18″ when open)\nLarge: 11.5″ H x 14″ W x 1″ D (14″ x 24″ when open)\n\nDon’t be intimidated by the zippers! Sammie will walk you through the zippers if you haven’t done a zipper before.
URL:https://stitchon.com/event/zip-it-up/
LOCATION:Stitch On\, 899 E 1000th Road\, Lawrence\, KS\, 66047\, United States
ATTACH;FMTTYPE=image/jpeg:https://stitchon.com/wp-content/uploads/2025/02/IMG_3258.jpeg
END:VEVENT
END:VCALENDAR