BEGIN:VCALENDAR
VERSION:2.0
PRODID:-//Stitch On - ECPv6.15.20//NONSGML v1.0//EN
CALSCALE:GREGORIAN
METHOD:PUBLISH
X-ORIGINAL-URL:https://stitchon.com
X-WR-CALDESC:Events for Stitch On
REFRESH-INTERVAL;VALUE=DURATION:PT1H
X-Robots-Tag:noindex
X-PUBLISHED-TTL:PT1H
BEGIN:VTIMEZONE
TZID:America/Chicago
BEGIN:DAYLIGHT
TZOFFSETFROM:-0600
TZOFFSETTO:-0500
TZNAME:CDT
DTSTART:20250309T080000
END:DAYLIGHT
BEGIN:STANDARD
TZOFFSETFROM:-0500
TZOFFSETTO:-0600
TZNAME:CST
DTSTART:20251102T070000
END:STANDARD
BEGIN:DAYLIGHT
TZOFFSETFROM:-0600
TZOFFSETTO:-0500
TZNAME:CDT
DTSTART:20260308T080000
END:DAYLIGHT
BEGIN:STANDARD
TZOFFSETFROM:-0500
TZOFFSETTO:-0600
TZNAME:CST
DTSTART:20261101T070000
END:STANDARD
BEGIN:DAYLIGHT
TZOFFSETFROM:-0600
TZOFFSETTO:-0500
TZNAME:CDT
DTSTART:20270314T080000
END:DAYLIGHT
BEGIN:STANDARD
TZOFFSETFROM:-0500
TZOFFSETTO:-0600
TZNAME:CST
DTSTART:20271107T070000
END:STANDARD
END:VTIMEZONE
BEGIN:VEVENT
DTSTART;TZID=America/Chicago:20260630T100000
DTEND;TZID=America/Chicago:20260630T160000
DTSTAMP:20260419T203532
CREATED:20260401T185259Z
LAST-MODIFIED:20260401T185259Z
UID:2383-1782813600-1782835200@stitchon.com
SUMMARY:Divided Double Zip Pouch
DESCRIPTION:Tuesday\, June 30 (10 am – 4 pm)\nCost per attendee: $30\nInstructor: Rita \nPlease contact the store at (785) 842-1101 with questions or to sign up. \nMany of us have mini charm packs sitting at home waiting for a project! This is the perfect project to grab that cute mini charm pack and make a Divided Double Zip Pouch with us! \nWe love that this pouch offers three zipper compartments – the large main compartment and the smaller two pockets on the front. \nFinished project measures 9″ x 12″ \nRita will walk you through zipper installation so don’t worry if you’re not a zipper person!
URL:https://stitchon.com/event/divided-double-zip-pouch/
LOCATION:Stitch On\, 899 E 1000th Road\, Lawrence\, KS\, 66047\, United States
ATTACH;FMTTYPE=image/jpeg:https://stitchon.com/wp-content/uploads/2026/04/divided-double-zip-pouch.jpg
END:VEVENT
BEGIN:VEVENT
DTSTART;TZID=America/Chicago:20260707T100000
DTEND;TZID=America/Chicago:20260707T160000
DTSTAMP:20260419T203532
CREATED:20260401T185527Z
LAST-MODIFIED:20260401T185527Z
UID:2386-1783418400-1783440000@stitchon.com
SUMMARY:Rope Bowl
DESCRIPTION:Tuesday\, July 7 (10 am – 4 pm)\nCost per attendee: $30\nInstructor: Terry \nPlease contact the store at (785) 842-1101 with questions or to sign up. \nTerry has taught the Rope Bowl class at the store before and it was a huge success! It was so inspiring to watch the bowls come to life throughout the day! \nYour instructor\, Terry\, has lots of great tips and ideas for future projects! \nThe best part – You will most likely walk away from class with a finished bowl! \nThe disclaimer – Making rope bowls is addictive!! This may just be your new go to for gifts!
URL:https://stitchon.com/event/rope-bowl-2/
LOCATION:Stitch On\, 899 E 1000th Road\, Lawrence\, KS\, 66047\, United States
ATTACH;FMTTYPE=image/jpeg:https://stitchon.com/wp-content/uploads/2025/06/rope-bowl.jpg
END:VEVENT
END:VCALENDAR