BEGIN:VCALENDAR
VERSION:2.0
PRODID:-//Stitch On - ECPv6.15.20//NONSGML v1.0//EN
CALSCALE:GREGORIAN
METHOD:PUBLISH
X-ORIGINAL-URL:https://stitchon.com
X-WR-CALDESC:Events for Stitch On
REFRESH-INTERVAL;VALUE=DURATION:PT1H
X-Robots-Tag:noindex
X-PUBLISHED-TTL:PT1H
BEGIN:VTIMEZONE
TZID:America/Chicago
BEGIN:DAYLIGHT
TZOFFSETFROM:-0600
TZOFFSETTO:-0500
TZNAME:CDT
DTSTART:20250309T080000
END:DAYLIGHT
BEGIN:STANDARD
TZOFFSETFROM:-0500
TZOFFSETTO:-0600
TZNAME:CST
DTSTART:20251102T070000
END:STANDARD
BEGIN:DAYLIGHT
TZOFFSETFROM:-0600
TZOFFSETTO:-0500
TZNAME:CDT
DTSTART:20260308T080000
END:DAYLIGHT
BEGIN:STANDARD
TZOFFSETFROM:-0500
TZOFFSETTO:-0600
TZNAME:CST
DTSTART:20261101T070000
END:STANDARD
BEGIN:DAYLIGHT
TZOFFSETFROM:-0600
TZOFFSETTO:-0500
TZNAME:CDT
DTSTART:20270314T080000
END:DAYLIGHT
BEGIN:STANDARD
TZOFFSETFROM:-0500
TZOFFSETTO:-0600
TZNAME:CST
DTSTART:20271107T070000
END:STANDARD
END:VTIMEZONE
BEGIN:VEVENT
DTSTART;TZID=America/Chicago:20260624T100000
DTEND;TZID=America/Chicago:20260624T160000
DTSTAMP:20260419T153754
CREATED:20260401T185031Z
LAST-MODIFIED:20260401T185031Z
UID:2380-1782295200-1782316800@stitchon.com
SUMMARY:Scrapbusters Open Sew
DESCRIPTION:Wednesday\, June 24 (10 am – 4 pm)\nCost per attendee: $12\nFacilitator: Nancy \nPlease contact the store at (785) 842-1101 with questions or to sign up. \nIf you’re a scrappy quilter and love busting through your stash\, this Open Sew is for you! \nNancy has taught a scrappy class here at the store and it spurred her to create a Scrapbusters Open Sew. During our Scrapbuster Open Sews\, Nancy will be there to facilitate an idea or tip each time. But ultimately\, it is just a fun opportunity to sew with other scrapbusters\, share ideas\, and work through your stash. \nWe plan to offer the Scrapbusters Open Sew several times throughout the year.
URL:https://stitchon.com/event/scrapbusters-open-sew/
LOCATION:Stitch On\, 899 E 1000th Road\, Lawrence\, KS\, 66047\, United States
ATTACH;FMTTYPE=image/png:https://stitchon.com/wp-content/uploads/2026/04/scrapbuster-woman-for-open-sew.png
END:VEVENT
END:VCALENDAR