BEGIN:VCALENDAR
VERSION:2.0
PRODID:-//Stitch On - ECPv6.15.20//NONSGML v1.0//EN
CALSCALE:GREGORIAN
METHOD:PUBLISH
X-ORIGINAL-URL:https://stitchon.com
X-WR-CALDESC:Events for Stitch On
REFRESH-INTERVAL;VALUE=DURATION:PT1H
X-Robots-Tag:noindex
X-PUBLISHED-TTL:PT1H
BEGIN:VTIMEZONE
TZID:America/Chicago
BEGIN:DAYLIGHT
TZOFFSETFROM:-0600
TZOFFSETTO:-0500
TZNAME:CDT
DTSTART:20250309T080000
END:DAYLIGHT
BEGIN:STANDARD
TZOFFSETFROM:-0500
TZOFFSETTO:-0600
TZNAME:CST
DTSTART:20251102T070000
END:STANDARD
BEGIN:DAYLIGHT
TZOFFSETFROM:-0600
TZOFFSETTO:-0500
TZNAME:CDT
DTSTART:20260308T080000
END:DAYLIGHT
BEGIN:STANDARD
TZOFFSETFROM:-0500
TZOFFSETTO:-0600
TZNAME:CST
DTSTART:20261101T070000
END:STANDARD
BEGIN:DAYLIGHT
TZOFFSETFROM:-0600
TZOFFSETTO:-0500
TZNAME:CDT
DTSTART:20270314T080000
END:DAYLIGHT
BEGIN:STANDARD
TZOFFSETFROM:-0500
TZOFFSETTO:-0600
TZNAME:CST
DTSTART:20271107T070000
END:STANDARD
END:VTIMEZONE
BEGIN:VEVENT
DTSTART;TZID=America/Chicago:20260616T100000
DTEND;TZID=America/Chicago:20260616T160000
DTSTAMP:20260419T153815
CREATED:20260401T184746Z
LAST-MODIFIED:20260401T184746Z
UID:2377-1781604000-1781625600@stitchon.com
SUMMARY:Laura Heine Flower Shop Arrangement
DESCRIPTION:Tuesday\, June 16 (10 am – 4 pm)\nCost per attendee: $40\nInstructor: Becky \nPlease contact the store at (785) 842-1101 with questions or to sign up. \nThis class is open to beginners wanting to learn the Laura Heine method of collaging. It is also a great class if you are a collager\, but want to learn a new technique using the Inktense pencils. \nThe Laura Heine Flower Shop pattern comes to life by accentuating the flowers with blending and shading of the Inktense pencils. A great project to enjoy creating and see it come to life throughout the day!
URL:https://stitchon.com/event/laura-heine-flower-shop-arrangement/
LOCATION:Stitch On\, 899 E 1000th Road\, Lawrence\, KS\, 66047\, United States
ATTACH;FMTTYPE=image/jpeg:https://stitchon.com/wp-content/uploads/2026/04/Laura-Heine-flower-shop-arrangement.jpg
END:VEVENT
END:VCALENDAR