BEGIN:VCALENDAR
VERSION:2.0
PRODID:-//Stitch On - ECPv6.15.20//NONSGML v1.0//EN
CALSCALE:GREGORIAN
METHOD:PUBLISH
X-WR-CALNAME:Stitch On
X-ORIGINAL-URL:https://stitchon.com
X-WR-CALDESC:Events for Stitch On
REFRESH-INTERVAL;VALUE=DURATION:PT1H
X-Robots-Tag:noindex
X-PUBLISHED-TTL:PT1H
BEGIN:VTIMEZONE
TZID:America/Chicago
BEGIN:DAYLIGHT
TZOFFSETFROM:-0600
TZOFFSETTO:-0500
TZNAME:CDT
DTSTART:20250309T080000
END:DAYLIGHT
BEGIN:STANDARD
TZOFFSETFROM:-0500
TZOFFSETTO:-0600
TZNAME:CST
DTSTART:20251102T070000
END:STANDARD
BEGIN:DAYLIGHT
TZOFFSETFROM:-0600
TZOFFSETTO:-0500
TZNAME:CDT
DTSTART:20260308T080000
END:DAYLIGHT
BEGIN:STANDARD
TZOFFSETFROM:-0500
TZOFFSETTO:-0600
TZNAME:CST
DTSTART:20261101T070000
END:STANDARD
BEGIN:DAYLIGHT
TZOFFSETFROM:-0600
TZOFFSETTO:-0500
TZNAME:CDT
DTSTART:20270314T080000
END:DAYLIGHT
BEGIN:STANDARD
TZOFFSETFROM:-0500
TZOFFSETTO:-0600
TZNAME:CST
DTSTART:20271107T070000
END:STANDARD
END:VTIMEZONE
BEGIN:VEVENT
DTSTART;TZID=America/Chicago:20260602T100000
DTEND;TZID=America/Chicago:20260602T160000
DTSTAMP:20260419T152654
CREATED:20260401T184518Z
LAST-MODIFIED:20260401T184518Z
UID:2374-1780394400-1780416000@stitchon.com
SUMMARY:Travel Iron Case
DESCRIPTION:Tuesday\, June 2 (10 am – 4 pm)\nCost per attendee: $35\nInstructor: Sally \nPlease contact the store at (785) 842-1101 with questions or to sign up. \nIf you go to classes\, retreats\, or head to your girlfriend’s house to sew\, you would love having a travel iron case! \nThe case is designed for the Oliso irons; but\, the Rowenta Travel Iron also fits in this case although not as snug as the Oliso does. With either brand\, there is still room for the cord as well. \nThe case is padded with an easy zipper installation. The pattern is written well with numerous four-color photos.
URL:https://stitchon.com/event/travel-iron-case/
LOCATION:Stitch On\, 899 E 1000th Road\, Lawrence\, KS\, 66047\, United States
ATTACH;FMTTYPE=image/jpeg:https://stitchon.com/wp-content/uploads/2026/04/travel-iron-case.jpg
END:VEVENT
END:VCALENDAR